BEGIN:VCALENDAR
VERSION:2.0
PRODID:-//hacksw/handcal//NONSGML v1.0//EN
BEGIN:VEVENT
SUMMARY:Istres - 3/J
UID:400b3eca-b7f3-445f-8d44-d180540780ed
DTSTART:20150627T220000Z
DTEND:20150628T220000Z
LOCATION:Localisation   
CATEGORIES:Sportif
STATUS:
URL;VALUE=URI:https://www.cvcmontfavet.com/evenements/2015/06/28/istres-3j-619897
END:VEVENT
END:VCALENDAR
